BEGIN:VCALENDAR
VERSION:2.0
PRODID:-//The Jewellery Bench - ECPv6.15.20//NONSGML v1.0//EN
CALSCALE:GREGORIAN
METHOD:PUBLISH
X-WR-CALNAME:The Jewellery Bench
X-ORIGINAL-URL:https://www.thejewellerybench.uk
X-WR-CALDESC:Events for The Jewellery Bench
REFRESH-INTERVAL;VALUE=DURATION:PT1H
X-Robots-Tag:noindex
X-PUBLISHED-TTL:PT1H
BEGIN:VTIMEZONE
TZID:Europe/London
BEGIN:DAYLIGHT
TZOFFSETFROM:+0000
TZOFFSETTO:+0100
TZNAME:BST
DTSTART:20250330T010000
END:DAYLIGHT
BEGIN:STANDARD
TZOFFSETFROM:+0100
TZOFFSETTO:+0000
TZNAME:GMT
DTSTART:20251026T010000
END:STANDARD
BEGIN:DAYLIGHT
TZOFFSETFROM:+0000
TZOFFSETTO:+0100
TZNAME:BST
DTSTART:20260329T010000
END:DAYLIGHT
BEGIN:STANDARD
TZOFFSETFROM:+0100
TZOFFSETTO:+0000
TZNAME:GMT
DTSTART:20261025T010000
END:STANDARD
BEGIN:DAYLIGHT
TZOFFSETFROM:+0000
TZOFFSETTO:+0100
TZNAME:BST
DTSTART:20270328T010000
END:DAYLIGHT
BEGIN:STANDARD
TZOFFSETFROM:+0100
TZOFFSETTO:+0000
TZNAME:GMT
DTSTART:20271031T010000
END:STANDARD
END:VTIMEZONE
BEGIN:VEVENT
DTSTART;TZID=Europe/London:20260425T093000
DTEND;TZID=Europe/London:20260425T123000
DTSTAMP:20260425T012212
CREATED:20260204T223007Z
LAST-MODIFIED:20260204T223007Z
UID:4784-1777109400-1777120200@www.thejewellerybench.uk
SUMMARY:Textured Pendant Workshop
DESCRIPTION:Learn a range of techniques and processes to texture metal. \n\n\n\nExperiment with hammers\, punches and etching to apply a surface decoration to your own unique piece.  Take home your own personalised\, silver pendant either for yourself or as a gift. \n\n\n\nAll materials included in this 1/2 day workshop \n\n\n\nSuitable for beginners
URL:https://www.thejewellerybench.uk/event/textured-pendant-workshop-25-04-2026/
LOCATION:The Jewellery Bench\, Leamington Spa\, United Kingdom
CATEGORIES:Textured Pendant Workshop
ATTACH;FMTTYPE=image/jpeg:https://www.thejewellerybench.uk/wp-content/uploads/2020/08/Pendants-4.jpg
ORGANIZER;CN="The Jewellery Bench":MAILTO:info@jewellerybench.uk
END:VEVENT
END:VCALENDAR