BEGIN:VCALENDAR
VERSION:2.0
PRODID:-//The Jewellery Bench - ECPv6.15.20//NONSGML v1.0//EN
CALSCALE:GREGORIAN
METHOD:PUBLISH
X-ORIGINAL-URL:https://www.thejewellerybench.uk
X-WR-CALDESC:Events for The Jewellery Bench
REFRESH-INTERVAL;VALUE=DURATION:PT1H
X-Robots-Tag:noindex
X-PUBLISHED-TTL:PT1H
BEGIN:VTIMEZONE
TZID:Europe/London
BEGIN:DAYLIGHT
TZOFFSETFROM:+0000
TZOFFSETTO:+0100
TZNAME:BST
DTSTART:20200329T010000
END:DAYLIGHT
BEGIN:STANDARD
TZOFFSETFROM:+0100
TZOFFSETTO:+0000
TZNAME:GMT
DTSTART:20201025T010000
END:STANDARD
BEGIN:DAYLIGHT
TZOFFSETFROM:+0000
TZOFFSETTO:+0100
TZNAME:BST
DTSTART:20210328T010000
END:DAYLIGHT
BEGIN:STANDARD
TZOFFSETFROM:+0100
TZOFFSETTO:+0000
TZNAME:GMT
DTSTART:20211031T010000
END:STANDARD
BEGIN:DAYLIGHT
TZOFFSETFROM:+0000
TZOFFSETTO:+0100
TZNAME:BST
DTSTART:20220327T010000
END:DAYLIGHT
BEGIN:STANDARD
TZOFFSETFROM:+0100
TZOFFSETTO:+0000
TZNAME:GMT
DTSTART:20221030T010000
END:STANDARD
END:VTIMEZONE
BEGIN:VEVENT
DTSTART;TZID=Europe/London:20211120T100000
DTEND;TZID=Europe/London:20211120T160000
DTSTAMP:20260423T200058
CREATED:20210718T222129Z
LAST-MODIFIED:20210718T222236Z
UID:1235-1637402400-1637424000@www.thejewellerybench.uk
SUMMARY:Chain Bracelet Workshop
DESCRIPTION:Develop your soldering skills and learn how to make jump rings. \n\n\n\nExplore with a range of shapes and sizes. Create different combinations and solder them together to make your own chain bracelet. \nAll materials included in this day workshop. \n\n\n\nSuitable for beginners
URL:https://www.thejewellerybench.uk/event/chain-bracelet-workshop-20-11-21/
LOCATION:The Jewellery Bench\, Leamington Spa\, United Kingdom
CATEGORIES:Chain Bracelet Workshop
ATTACH;FMTTYPE=image/jpeg:https://www.thejewellerybench.uk/wp-content/uploads/2020/08/Chain-3.jpg
ORGANIZER;CN="The Jewellery Bench":MAILTO:info@jewellerybench.uk
END:VEVENT
END:VCALENDAR