BEGIN:VCALENDAR
VERSION:2.0
PRODID:-//The Jewellery Bench - ECPv6.15.20//NONSGML v1.0//EN
CALSCALE:GREGORIAN
METHOD:PUBLISH
X-WR-CALNAME:The Jewellery Bench
X-ORIGINAL-URL:https://www.thejewellerybench.uk
X-WR-CALDESC:Events for The Jewellery Bench
REFRESH-INTERVAL;VALUE=DURATION:PT1H
X-Robots-Tag:noindex
X-PUBLISHED-TTL:PT1H
BEGIN:VTIMEZONE
TZID:Europe/London
BEGIN:DAYLIGHT
TZOFFSETFROM:+0000
TZOFFSETTO:+0100
TZNAME:BST
DTSTART:20200329T010000
END:DAYLIGHT
BEGIN:STANDARD
TZOFFSETFROM:+0100
TZOFFSETTO:+0000
TZNAME:GMT
DTSTART:20201025T010000
END:STANDARD
BEGIN:DAYLIGHT
TZOFFSETFROM:+0000
TZOFFSETTO:+0100
TZNAME:BST
DTSTART:20210328T010000
END:DAYLIGHT
BEGIN:STANDARD
TZOFFSETFROM:+0100
TZOFFSETTO:+0000
TZNAME:GMT
DTSTART:20211031T010000
END:STANDARD
BEGIN:DAYLIGHT
TZOFFSETFROM:+0000
TZOFFSETTO:+0100
TZNAME:BST
DTSTART:20220327T010000
END:DAYLIGHT
BEGIN:STANDARD
TZOFFSETFROM:+0100
TZOFFSETTO:+0000
TZNAME:GMT
DTSTART:20221030T010000
END:STANDARD
END:VTIMEZONE
BEGIN:VEVENT
DTSTART;TZID=Europe/London:20210605T100000
DTEND;TZID=Europe/London:20210605T160000
DTSTAMP:20260425T214640
CREATED:20210301T221420Z
LAST-MODIFIED:20210301T221420Z
UID:1068-1622887200-1622908800@www.thejewellerybench.uk
SUMMARY:Saw-pierced Pendant Workshop
DESCRIPTION:Saw piercing is a basic\, fundamental jewellery making technique. \n\nCome and learn how to make a saw-pierced pendant and practice the skill – create your own unique design or use one of our templates and take home your own personalised\, silver pendant. \nAll materials included in this day workshop. \nSuitable for beginners
URL:https://www.thejewellerybench.uk/event/saw-pierced-pendant-workshop-05-06-21/
LOCATION:The Jewellery Bench\, Leamington Spa\, United Kingdom
CATEGORIES:Saw-pierced Pendant Workshop
ATTACH;FMTTYPE=image/jpeg:https://www.thejewellerybench.uk/wp-content/uploads/2020/08/Saw-pierced-pendant.jpg
ORGANIZER;CN="The Jewellery Bench":MAILTO:info@jewellerybench.uk
END:VEVENT
END:VCALENDAR