BEGIN:VCALENDAR
VERSION:2.0
PRODID:-//The Jewellery Bench - ECPv6.15.20//NONSGML v1.0//EN
CALSCALE:GREGORIAN
METHOD:PUBLISH
X-ORIGINAL-URL:https://www.thejewellerybench.uk
X-WR-CALDESC:Events for The Jewellery Bench
REFRESH-INTERVAL;VALUE=DURATION:PT1H
X-Robots-Tag:noindex
X-PUBLISHED-TTL:PT1H
BEGIN:VTIMEZONE
TZID:Europe/London
BEGIN:DAYLIGHT
TZOFFSETFROM:+0000
TZOFFSETTO:+0100
TZNAME:BST
DTSTART:20200329T010000
END:DAYLIGHT
BEGIN:STANDARD
TZOFFSETFROM:+0100
TZOFFSETTO:+0000
TZNAME:GMT
DTSTART:20201025T010000
END:STANDARD
BEGIN:DAYLIGHT
TZOFFSETFROM:+0000
TZOFFSETTO:+0100
TZNAME:BST
DTSTART:20210328T010000
END:DAYLIGHT
BEGIN:STANDARD
TZOFFSETFROM:+0100
TZOFFSETTO:+0000
TZNAME:GMT
DTSTART:20211031T010000
END:STANDARD
BEGIN:DAYLIGHT
TZOFFSETFROM:+0000
TZOFFSETTO:+0100
TZNAME:BST
DTSTART:20220327T010000
END:DAYLIGHT
BEGIN:STANDARD
TZOFFSETFROM:+0100
TZOFFSETTO:+0000
TZNAME:GMT
DTSTART:20221030T010000
END:STANDARD
END:VTIMEZONE
BEGIN:VEVENT
DTSTART;TZID=Europe/London:20210206T093000
DTEND;TZID=Europe/London:20210206T123000
DTSTAMP:20260425T141135
CREATED:20201117T224308Z
LAST-MODIFIED:20201117T224308Z
UID:923-1612603800-1612614600@www.thejewellerybench.uk
SUMMARY:Ring Workshop
DESCRIPTION:Learn how to make a silver ring to size. \n\nYou will be introduced to the basic skills of saw piercing\, filing and soldering when making a silver ring.  Personalise it by texturing it or simply leave it polished. Make it for yourself or for a gift for someone special. \n\nAll materials included in this 1/2 day workshop \n\nSuitable for beginners
URL:https://www.thejewellerybench.uk/event/ring-workshop-06-02-21/
LOCATION:The Jewellery Bench\, Leamington Spa\, United Kingdom
CATEGORIES:Ring Workshops
ATTACH;FMTTYPE=image/jpeg:https://www.thejewellerybench.uk/wp-content/uploads/2019/12/Ring-1.jpg
ORGANIZER;CN="The Jewellery Bench":MAILTO:info@jewellerybench.uk
END:VEVENT
BEGIN:VEVENT
DTSTART;TZID=Europe/London:20210220T100000
DTEND;TZID=Europe/London:20210220T160000
DTSTAMP:20260425T141135
CREATED:20201117T230700Z
LAST-MODIFIED:20201117T230856Z
UID:940-1613815200-1613836800@www.thejewellerybench.uk
SUMMARY:Stacking Rings Workshop
DESCRIPTION:Develop a range of skills making your own set of three stacking rings. \n\n\n\nExplore and experiment with textures and a combination of different sections (shapes) of silver wire.  Learn how to saw-pierce\, solder\, file\, clean and polish your rings as well as adding textures or embellishments. \n\n\n\nAll materials included in this day workshop. \nSuitable for beginners
URL:https://www.thejewellerybench.uk/event/stacking-rings-workshop-20-02-21/
LOCATION:The Jewellery Bench\, Leamington Spa\, United Kingdom
CATEGORIES:Stacking Rings Workshop
ATTACH;FMTTYPE=image/jpeg:https://www.thejewellerybench.uk/wp-content/uploads/2020/08/Stacking-rings-3-1.jpg
ORGANIZER;CN="The Jewellery Bench":MAILTO:info@jewellerybench.uk
END:VEVENT
END:VCALENDAR