BEGIN:VCALENDAR
VERSION:2.0
PRODID:-//The Jewellery Bench - ECPv6.15.20//NONSGML v1.0//EN
CALSCALE:GREGORIAN
METHOD:PUBLISH
X-ORIGINAL-URL:https://www.thejewellerybench.uk
X-WR-CALDESC:Events for The Jewellery Bench
REFRESH-INTERVAL;VALUE=DURATION:PT1H
X-Robots-Tag:noindex
X-PUBLISHED-TTL:PT1H
BEGIN:VTIMEZONE
TZID:Europe/London
BEGIN:DAYLIGHT
TZOFFSETFROM:+0000
TZOFFSETTO:+0100
TZNAME:BST
DTSTART:20210328T010000
END:DAYLIGHT
BEGIN:STANDARD
TZOFFSETFROM:+0100
TZOFFSETTO:+0000
TZNAME:GMT
DTSTART:20211031T010000
END:STANDARD
BEGIN:DAYLIGHT
TZOFFSETFROM:+0000
TZOFFSETTO:+0100
TZNAME:BST
DTSTART:20220327T010000
END:DAYLIGHT
BEGIN:STANDARD
TZOFFSETFROM:+0100
TZOFFSETTO:+0000
TZNAME:GMT
DTSTART:20221030T010000
END:STANDARD
BEGIN:DAYLIGHT
TZOFFSETFROM:+0000
TZOFFSETTO:+0100
TZNAME:BST
DTSTART:20230326T010000
END:DAYLIGHT
BEGIN:STANDARD
TZOFFSETFROM:+0100
TZOFFSETTO:+0000
TZNAME:GMT
DTSTART:20231029T010000
END:STANDARD
END:VTIMEZONE
BEGIN:VEVENT
DTSTART;TZID=Europe/London:20220723T100000
DTEND;TZID=Europe/London:20220723T160000
DTSTAMP:20260424T160421
CREATED:20220723T080000Z
LAST-MODIFIED:20220522T224536Z
UID:1908-1658570400-1658592000@www.thejewellerybench.uk
SUMMARY:Stacking Ring Workshop
DESCRIPTION:Develop a range of skills making your own set of three stacking rings. \n\n\n\nExplore and experiment with textures and a combination of different sections (shapes) of silver wire.  Learn how to saw-pierce\, solder\, file\, clean and polish your rings as well as adding textures or embellishments. \n\n\n\nAll materials included in this day workshop. \nSuitable for beginners
URL:https://www.thejewellerybench.uk/event/stacking-ring-workshop-23-07-2022/
LOCATION:The Jewellery Bench\, Leamington Spa\, United Kingdom
CATEGORIES:Stacking Rings Workshop
ATTACH;FMTTYPE=image/jpeg:https://www.thejewellerybench.uk/wp-content/uploads/2020/08/Stacking-rings-3.jpg
ORGANIZER;CN="The Jewellery Bench":MAILTO:info@jewellerybench.uk
END:VEVENT
END:VCALENDAR